BEGIN:VCALENDAR
VERSION:2.0
PRODID:SchoolNow
CALSCALE:GREGORIAN
BEGIN:VEVENT
UID:50ec1d92-fe8c-11ef-a472-0a58a9feac02
DTSTAMP:20251216T200022Z
SUMMARY:Life Skill Assembly
URL;VALUE=URI:https://www.millercreeksd.org/vallecitoes/calendar/7657112/li
 fe-skill-assembly
DTSTART:20261106T163000Z
DTEND:20261106T170000Z
END:VEVENT
END:VCALENDAR
