BEGIN:VCALENDAR
VERSION:2.0
PRODID:SchoolNow
CALSCALE:GREGORIAN
BEGIN:VEVENT
UID:d7e25818-e445-11ef-a914-0a58a9feac02
DTSTAMP:20251216T200022Z
SUMMARY:Life Skill Assembly
URL;VALUE=URI:https://www.millercreeksd.org/vallecitoes/calendar/7429445/li
 fe-skill-assembly
DTSTART:20261002T153000Z
DTEND:20261002T160000Z
END:VEVENT
END:VCALENDAR
