BEGIN:VCALENDAR
VERSION:2.0
PRODID:SchoolNow
CALSCALE:GREGORIAN
BEGIN:VEVENT
UID:c3d7c02e-d225-11ef-92d1-0a58a9feac02
DTSTAMP:20251216T200022Z
SUMMARY:Class photo day for 2025/26 school year
URL;VALUE=URI:https://www.millercreeksd.org/vallecitoes/calendar/7311129/cl
 ass-photo-day-for-2025-26-school-year
DTSTART;VALUE=DATE:20260210
DTEND;VALUE=DATE:20260211
END:VEVENT
END:VCALENDAR
