BEGIN:VCALENDAR
VERSION:2.0
PRODID:SchoolNow
CALSCALE:GREGORIAN
BEGIN:VEVENT
UID:c3d7bc5a-d225-11ef-9a14-0a58a9feac02
DTSTAMP:20251216T200022Z
SUMMARY:Make up photo day 2025/26 school year
URL;VALUE=URI:https://www.millercreeksd.org/vallecitoes/calendar/7311128/ma
 ke-up-photo-day-2025-26-school-year
DTSTART;VALUE=DATE:20251020
DTEND;VALUE=DATE:20251021
END:VEVENT
END:VCALENDAR
