BEGIN:VCALENDAR
VERSION:2.0
PRODID:SchoolNow
CALSCALE:GREGORIAN
BEGIN:VEVENT
UID:c3d7ba70-d225-11ef-bf78-0a58a9feac02
DTSTAMP:20251216T200022Z
SUMMARY:Photo day - 2025/26 School year
URL;VALUE=URI:https://www.millercreeksd.org/vallecitoes/calendar/7311127/ph
 oto-day-2025-26-school-year
DTSTART;VALUE=DATE:20250916
DTEND;VALUE=DATE:20250917
END:VEVENT
END:VCALENDAR
