BEGIN:VCALENDAR
VERSION:2.0
PRODID:SchoolNow
CALSCALE:GREGORIAN
BEGIN:VEVENT
UID:c3d79810-d225-11ef-930d-0a58a9feac02
DTSTAMP:20251216T200022Z
SUMMARY:Photo day - 2025/26 School Year
URL;VALUE=URI:https://www.millercreeksd.org/vallecitoes/calendar/7311126/ph
 oto-day-2025-26-school-year
DTSTART;VALUE=DATE:20250915
DTEND;VALUE=DATE:20250916
END:VEVENT
END:VCALENDAR
