BEGIN:VCALENDAR
VERSION:2.0
PRODID:SchoolNow
CALSCALE:GREGORIAN
BEGIN:VEVENT
UID:15de6818-cd5e-11ef-8c37-0a58a9feac02
DTSTAMP:20251216T200022Z
SUMMARY:Life Skill Assembly
URL;VALUE=URI:https://www.millercreeksd.org/vallecitoes/calendar/7283356/li
 fe-skill-assembly
DTSTART:20260904T153000Z
DTEND:20260904T160000Z
END:VEVENT
END:VCALENDAR
