BEGIN:VCALENDAR
VERSION:2.0
PRODID:SchoolNow
CALSCALE:GREGORIAN
BEGIN:VEVENT
UID:0cffb104-b8da-11ef-b9b1-0affe910d2bd
DTSTAMP:20251216T200022Z
SUMMARY:Life Skill Assembly
URL;VALUE=URI:https://www.millercreeksd.org/vallecitoes/calendar/7161845/li
 fe-skill-assembly
DTSTART:20260807T153000Z
DTEND:20260807T160000Z
END:VEVENT
END:VCALENDAR
