BEGIN:VCALENDAR
VERSION:2.0
PRODID:SchoolNow
CALSCALE:GREGORIAN
BEGIN:VEVENT
UID:84ebff06-9bc5-11ef-a6ee-0a58a9feac02
DTSTAMP:20251216T200022Z
SUMMARY:Life Skill Assembly
URL;VALUE=URI:https://www.millercreeksd.org/vallecitoes/calendar/6965822/li
 fe-skill-assembly
DTSTART:20260703T153000Z
DTEND:20260703T160000Z
END:VEVENT
END:VCALENDAR
