BEGIN:VCALENDAR
VERSION:2.0
PRODID:SchoolNow
CALSCALE:GREGORIAN
BEGIN:VEVENT
UID:be2c60bc-83ab-11ef-afd8-02418badab3d
DTSTAMP:20251216T200022Z
SUMMARY:Life Skill Assembly
URL;VALUE=URI:https://www.millercreeksd.org/vallecitoes/calendar/6766740/li
 fe-skill-assembly
DTSTART:20260605T153000Z
DTEND:20260605T160000Z
END:VEVENT
END:VCALENDAR
