BEGIN:VCALENDAR
VERSION:2.0
PRODID:SchoolNow
CALSCALE:GREGORIAN
BEGIN:VEVENT
UID:4c700968-695e-11ef-b8a8-0a58a9feac02
DTSTAMP:20251216T200022Z
SUMMARY:Life Skill Assembly
URL;VALUE=URI:https://www.millercreeksd.org/vallecitoes/calendar/6508681/li
 fe-skill-assembly
DTSTART:20260501T153000Z
DTEND:20260501T160000Z
END:VEVENT
END:VCALENDAR
