BEGIN:VCALENDAR
VERSION:2.0
PRODID:SchoolNow
CALSCALE:GREGORIAN
BEGIN:VEVENT
UID:584cc73c-54da-11ef-a3f8-0a58a9feac02
DTSTAMP:20251216T200022Z
SUMMARY:Life Skill Assembly
URL;VALUE=URI:https://www.millercreeksd.org/vallecitoes/calendar/6366354/li
 fe-skill-assembly
DTSTART:20260403T153000Z
DTEND:20260403T160000Z
END:VEVENT
END:VCALENDAR
