BEGIN:VCALENDAR
VERSION:2.0
PRODID:SchoolNow
CALSCALE:GREGORIAN
BEGIN:VEVENT
UID:00f78efe-47b5-11ef-a565-027c6db0ed6d
DTSTAMP:20251216T200022Z
SUMMARY:Life Skill Assembly
URL;VALUE=URI:https://www.millercreeksd.org/vallecitoes/calendar/6291014/li
 fe-skill-assembly
DTSTART:20260306T163000Z
DTEND:20260306T170000Z
END:VEVENT
END:VCALENDAR
