BEGIN:VCALENDAR
VERSION:2.0
PRODID:SchoolNow
CALSCALE:GREGORIAN
BEGIN:VEVENT
UID:5cdf1eec-2485-11ef-858c-0affe69c4221
DTSTAMP:20251216T200022Z
SUMMARY:Life Skill Assembly
URL;VALUE=URI:https://www.millercreeksd.org/vallecitoes/calendar/6089613/li
 fe-skill-assembly
DTSTART:20260206T163000Z
DTEND:20260206T170000Z
END:VEVENT
END:VCALENDAR
