BEGIN:VCALENDAR
VERSION:2.0
PRODID:SchoolNow
CALSCALE:GREGORIAN
BEGIN:VEVENT
UID:3dea97ee-0907-11ef-9067-0a58a9feac02
DTSTAMP:20251216T200022Z
SUMMARY:Life Skill Assembly
URL;VALUE=URI:https://www.millercreeksd.org/vallecitoes/calendar/5904104/li
 fe-skill-assembly
DTSTART:20260109T163000Z
DTEND:20260109T170000Z
END:VEVENT
END:VCALENDAR
