BEGIN:VCALENDAR
VERSION:2.0
PRODID:SchoolNow
CALSCALE:GREGORIAN
BEGIN:VEVENT
UID:f87ce67c-faaf-11ee-911a-0afffc4bd8b3
DTSTAMP:20251216T200022Z
SUMMARY:Life Skill Assembly
URL;VALUE=URI:https://www.millercreeksd.org/vallecitoes/calendar/5783383/li
 fe-skill-assembly
DTSTART:20251205T163000Z
DTEND:20251205T170000Z
END:VEVENT
END:VCALENDAR
