BEGIN:VCALENDAR
VERSION:2.0
PRODID:SchoolNow
CALSCALE:GREGORIAN
BEGIN:VEVENT
UID:98d877ba-c6e6-11ee-9ac6-0a58a9feac02
DTSTAMP:20251216T200022Z
SUMMARY:Life Skill Assembly
URL;VALUE=URI:https://www.millercreeksd.org/vallecitoes/calendar/5289273/li
 fe-skill-assembly
DTSTART:20251003T153000Z
DTEND:20251003T160000Z
END:VEVENT
END:VCALENDAR
