BEGIN:VCALENDAR
VERSION:2.0
PRODID:SchoolNow
CALSCALE:GREGORIAN
BEGIN:VEVENT
UID:d9e52184-ae33-11ee-a98b-0a58a9feac02
DTSTAMP:20251216T200022Z
SUMMARY:Life Skill Assembly
URL;VALUE=URI:https://www.millercreeksd.org/vallecitoes/calendar/5122396/li
 fe-skill-assembly
DTSTART:20250829T153000Z
DTEND:20250829T160000Z
END:VEVENT
END:VCALENDAR
