BEGIN:VCALENDAR
VERSION:2.0
PRODID:SchoolNow
CALSCALE:GREGORIAN
BEGIN:VEVENT
UID:a85fe5d4-d601-11f0-b668-02d700311787
DTSTAMP:20251216T154645Z
SUMMARY:Golf Team Player Meeting to Launch Season
LOCATION:Room M-3
URL;VALUE=URI:https://www.millercreeksd.org/mcms/calendar/8821484/golf-team
 -player-meeting-to-launch-season
DTSTART:20260115T231500Z
DTEND:20260116T000000Z
END:VEVENT
END:VCALENDAR
