BEGIN:VCALENDAR
VERSION:2.0
PRODID:SchoolNow
CALSCALE:GREGORIAN
BEGIN:VEVENT
UID:f79084ce-d007-11f0-b743-028e75ad2e01
DTSTAMP:20251216T154645Z
SUMMARY:MCMS ELAC Meeting - Reclassification Ceremony @ MES
LOCATION:Mary E. Silveira Elementary School\, 375 Blackstone Dr\, San Rafae
 l\, CA 94903\, USA
URL;VALUE=URI:https://www.millercreeksd.org/mcms/calendar/8816510/mcms-elac
 -meeting-reclassification-ceremony-mes
DTSTART:20260306T020000Z
DTEND:20260306T033000Z
END:VEVENT
END:VCALENDAR
