BEGIN:VCALENDAR
VERSION:2.0
PRODID:SchoolNow
CALSCALE:GREGORIAN
BEGIN:VEVENT
UID:f79080d2-d007-11f0-8910-028e75ad2e01
DTSTAMP:20251216T154645Z
SUMMARY:MCMS ELAC Meeting
URL;VALUE=URI:https://www.millercreeksd.org/mcms/calendar/8816509/mcms-elac
 -meeting
DTSTART:20260430T000000Z
DTEND:20260430T010000Z
END:VEVENT
END:VCALENDAR
