BEGIN:VCALENDAR
VERSION:2.0
PRODID:SchoolNow
CALSCALE:GREGORIAN
BEGIN:VEVENT
UID:f7907cb8-d007-11f0-bc39-028e75ad2e01
DTSTAMP:20251216T154646Z
SUMMARY:MCMS ELAC Meeting
URL;VALUE=URI:https://www.millercreeksd.org/mcms/calendar/8816508/mcms-elac
 -meeting
DTSTART:20260226T010000Z
DTEND:20260226T020000Z
END:VEVENT
END:VCALENDAR
