BEGIN:VCALENDAR
VERSION:2.0
PRODID:SchoolNow
CALSCALE:GREGORIAN
BEGIN:VEVENT
UID:09d4dc20-cf09-11f0-87b5-0a58a9feac02
DTSTAMP:20251216T154646Z
SUMMARY:MCMS ELAC Meeting
URL;VALUE=URI:https://www.millercreeksd.org/mcms/calendar/8815118/mcms-elac
 -meeting
DTSTART:20251204T010000Z
DTEND:20251204T020000Z
END:VEVENT
END:VCALENDAR
