BEGIN:VCALENDAR
VERSION:2.0
PRODID:SchoolNow
CALSCALE:GREGORIAN
BEGIN:VEVENT
UID:45e40212-ca41-11f0-b856-0eac95224e0b
DTSTAMP:20251216T154646Z
SUMMARY:Youth Truth Family Survey Window: 12/1 - 12/19/25
URL;VALUE=URI:https://www.millercreeksd.org/mcms/calendar/8809898/youth-tru
 th-family-survey-window-12-1-12-19-25
DTSTART;VALUE=DATE:20251201
DTEND;VALUE=DATE:20251220
END:VEVENT
END:VCALENDAR
