BEGIN:VCALENDAR
VERSION:2.0
PRODID:SchoolNow
CALSCALE:GREGORIAN
BEGIN:VEVENT
UID:aed6d49c-c17d-11f0-9a80-0affc5afb2f1
DTSTAMP:20251216T154645Z
SUMMARY:Mathletes Competition @ Hall
LOCATION:Hall Middle School\, 230 Doherty Dr\, Larkspur\, CA 94939\, USA
URL;VALUE=URI:https://www.millercreeksd.org/mcms/calendar/8795723/mathletes
 -competition-hall
DTSTART:20251119T001000Z
DTEND:20251119T014500Z
END:VEVENT
END:VCALENDAR
