BEGIN:VCALENDAR
VERSION:2.0
PRODID:SchoolNow
CALSCALE:GREGORIAN
BEGIN:VEVENT
UID:dc10275a-bdb4-11f0-8286-0affdf3427b9
DTSTAMP:20251216T154646Z
SUMMARY:MCMS HSC Meeting- 11/12/25 (Room M3 or Zoom)
LOCATION:https://usc.zoom.us/j/4842909992?omn=94867160176
URL;VALUE=URI:https://www.millercreeksd.org/mcms/calendar/8786640/mcms-hsc-
 meeting-11-12-25-room-m3-or-zoom
DTSTART:20251112T164500Z
DTEND:20251112T174500Z
END:VEVENT
END:VCALENDAR
