BEGIN:VCALENDAR
VERSION:2.0
PRODID:SchoolNow
CALSCALE:GREGORIAN
BEGIN:VEVENT
UID:090d3abe-ba85-11f0-add1-0293b7ea1c8b
DTSTAMP:20251216T154646Z
SUMMARY:Miller Creek Winter Market
LOCATION:M-3
URL;VALUE=URI:https://www.millercreeksd.org/mcms/calendar/8779777/miller-cr
 eek-winter-market
DTSTART:20251211T003000Z
DTEND:20251211T023000Z
END:VEVENT
END:VCALENDAR
