BEGIN:VCALENDAR
VERSION:2.0
PRODID:SchoolNow
CALSCALE:GREGORIAN
BEGIN:VEVENT
UID:059bcbc2-adf9-11f0-bfac-026380901c47
DTSTAMP:20251216T154645Z
SUMMARY:MCMS Picture Make Up Day
URL;VALUE=URI:https://www.millercreeksd.org/mcms/calendar/8736983/mcms-pict
 ure-make-up-day
DTSTART:20251105T160000Z
DTEND:20251105T193000Z
END:VEVENT
END:VCALENDAR
