BEGIN:VCALENDAR
VERSION:2.0
PRODID:SchoolNow
CALSCALE:GREGORIAN
BEGIN:VEVENT
UID:a2faaafe-a31e-11f0-adb3-0afffc7db641
DTSTAMP:20251216T154646Z
SUMMARY:School Site Council\, MCMS
LOCATION:M-3
URL;VALUE=URI:https://www.millercreeksd.org/mcms/calendar/8701265/school-si
 te-council-mcms
DTSTART:20260514T221500Z
DTEND:20260514T233000Z
END:VEVENT
END:VCALENDAR
