BEGIN:VCALENDAR
VERSION:2.0
PRODID:SchoolNow
CALSCALE:GREGORIAN
BEGIN:VEVENT
UID:a2faa914-a31e-11f0-b2c6-0afffc7db641
DTSTAMP:20251216T154646Z
SUMMARY:School Site Council\, MCMS
LOCATION:M-3
URL;VALUE=URI:https://www.millercreeksd.org/mcms/calendar/8701263/school-si
 te-council-mcms
DTSTART:20260312T221500Z
DTEND:20260312T233000Z
END:VEVENT
END:VCALENDAR
