BEGIN:VCALENDAR
VERSION:2.0
PRODID:SchoolNow
CALSCALE:GREGORIAN
BEGIN:VEVENT
UID:a2faa5f4-a31e-11f0-9fcf-0afffc7db641
DTSTAMP:20251216T154645Z
SUMMARY:School Site Council\, MCMS
LOCATION:M-3
URL;VALUE=URI:https://www.millercreeksd.org/mcms/calendar/8701260/school-si
 te-council-mcms
DTSTART:20251211T231500Z
DTEND:20251212T003000Z
END:VEVENT
END:VCALENDAR
