BEGIN:VCALENDAR
VERSION:2.0
PRODID:SchoolNow
CALSCALE:GREGORIAN
BEGIN:VEVENT
UID:a2faa4a0-a31e-11f0-a882-0afffc7db641
DTSTAMP:20251216T154646Z
SUMMARY:School Site Council\, MCMS
LOCATION:M-3
URL;VALUE=URI:https://www.millercreeksd.org/mcms/calendar/8701259/school-si
 te-council-mcms
DTSTART:20251113T231500Z
DTEND:20251114T003000Z
END:VEVENT
END:VCALENDAR
