BEGIN:VCALENDAR
VERSION:2.0
PRODID:SchoolNow
CALSCALE:GREGORIAN
BEGIN:VEVENT
UID:d18aa726-9fee-11f0-ac95-0a58a9feac02
DTSTAMP:20251216T154645Z
SUMMARY:Cross Country Meet @ Mill Valley Middle School
URL;VALUE=URI:https://www.millercreeksd.org/mcms/calendar/8689759/cross-cou
 ntry-meet-mill-valley-middle-school
DTSTART:20251003T230000Z
DTEND:20251004T003000Z
END:VEVENT
END:VCALENDAR
