BEGIN:VCALENDAR
VERSION:2.0
PRODID:SchoolNow
CALSCALE:GREGORIAN
BEGIN:VEVENT
UID:0c19e35c-9af4-11f0-a3e9-0a58a9feac02
DTSTAMP:20251216T154646Z
SUMMARY:Counted Out - Film Screening at MCOE
URL;VALUE=URI:https://www.millercreeksd.org/mcms/calendar/8667802/counted-o
 ut-film-screening-at-mcoe
DTSTART:20251031T003000Z
DTEND:20251031T024500Z
END:VEVENT
END:VCALENDAR
