BEGIN:VCALENDAR
VERSION:2.0
PRODID:SchoolNow
CALSCALE:GREGORIAN
BEGIN:VEVENT
UID:0c19e1ae-9af4-11f0-9988-0a58a9feac02
DTSTAMP:20251216T154645Z
SUMMARY:Cross Country Meet @ Stinson Beach-CANCELLED
URL;VALUE=URI:https://www.millercreeksd.org/mcms/calendar/8667801/cross-cou
 ntry-meet-stinson-beach-cancelled
DTSTART:20251002T230000Z
DTEND:20251003T003000Z
END:VEVENT
END:VCALENDAR
