BEGIN:VCALENDAR
VERSION:2.0
PRODID:SchoolNow
CALSCALE:GREGORIAN
BEGIN:VEVENT
UID:0c19e064-9af4-11f0-8133-0a58a9feac02
DTSTAMP:20251216T154645Z
SUMMARY:Cross Country Championship Race @ Indian Valley College
URL;VALUE=URI:https://www.millercreeksd.org/mcms/calendar/8667800/cross-cou
 ntry-championship-race-indian-valley-college
DTSTART:20251029T230000Z
DTEND:20251030T010000Z
END:VEVENT
END:VCALENDAR
