BEGIN:VCALENDAR
VERSION:2.0
PRODID:SchoolNow
CALSCALE:GREGORIAN
BEGIN:VEVENT
UID:0c19df10-9af4-11f0-a798-0a58a9feac02
DTSTAMP:20251216T154646Z
SUMMARY:Cross Country Meet @ Blackie's Pasture
URL;VALUE=URI:https://www.millercreeksd.org/mcms/calendar/8667799/cross-cou
 ntry-meet-blackies-pasture
DTSTART:20251022T230000Z
DTEND:20251023T010000Z
END:VEVENT
END:VCALENDAR
