BEGIN:VCALENDAR
VERSION:2.0
PRODID:SchoolNow
CALSCALE:GREGORIAN
BEGIN:VEVENT
UID:0c19db5a-9af4-11f0-8709-0a58a9feac02
DTSTAMP:20251216T154646Z
SUMMARY:Cross Country Meet @ Indian Valley College
URL;VALUE=URI:https://www.millercreeksd.org/mcms/calendar/8667798/cross-cou
 ntry-meet-indian-valley-college
DTSTART:20251008T230000Z
DTEND:20251009T010000Z
END:VEVENT
END:VCALENDAR
