BEGIN:VCALENDAR
VERSION:2.0
PRODID:SchoolNow
CALSCALE:GREGORIAN
BEGIN:VEVENT
UID:3a6df986-972b-11f0-8846-02d3754d99b9
DTSTAMP:20251216T154645Z
SUMMARY:8th Grade Panther Picnic
LOCATION:Marinwood Park
URL;VALUE=URI:https://www.millercreeksd.org/mcms/calendar/8650632/8th-grade
 -panther-picnic
DTSTART:20260609T160000Z
DTEND:20260609T200000Z
END:VEVENT
END:VCALENDAR
