BEGIN:VCALENDAR
VERSION:2.0
PRODID:SchoolNow
CALSCALE:GREGORIAN
BEGIN:VEVENT
UID:3a6df896-972b-11f0-a557-02d3754d99b9
DTSTAMP:20251216T154646Z
SUMMARY:8th Grade Promotion
LOCATION:MCMS Lohwasser Field
URL;VALUE=URI:https://www.millercreeksd.org/mcms/calendar/8650631/8th-grade
 -promotion
DTSTART:20260611T000000Z
DTEND:20260611T010000Z
END:VEVENT
END:VCALENDAR
