BEGIN:VCALENDAR
VERSION:2.0
PRODID:SchoolNow
CALSCALE:GREGORIAN
BEGIN:VEVENT
UID:3a6df7b0-972b-11f0-94f7-02d3754d99b9
DTSTAMP:20251216T154646Z
SUMMARY:8th Grade End of Year Social
LOCATION:MCMS Gymnasium
URL;VALUE=URI:https://www.millercreeksd.org/mcms/calendar/8650630/8th-grade
 -end-of-year-social
DTSTART:20260606T010000Z
DTEND:20260606T023000Z
END:VEVENT
END:VCALENDAR
