BEGIN:VCALENDAR
VERSION:2.0
PRODID:SchoolNow
CALSCALE:GREGORIAN
BEGIN:VEVENT
UID:3a6df6c0-972b-11f0-8f68-02d3754d99b9
DTSTAMP:20251216T154645Z
SUMMARY:8th Grade Awards Night
URL;VALUE=URI:https://www.millercreeksd.org/mcms/calendar/8650629/8th-grade
 -awards-night
DTSTART:20260605T003000Z
DTEND:20260605T013000Z
END:VEVENT
END:VCALENDAR
