BEGIN:VCALENDAR
VERSION:2.0
PRODID:SchoolNow
CALSCALE:GREGORIAN
BEGIN:VEVENT
UID:3a6df5da-972b-11f0-a1c3-02d3754d99b9
DTSTAMP:20251216T154646Z
SUMMARY:Can Do! Golf Tournament
LOCATION:Foxtail Golf Club\, 100 Golf Course Dr\, Rohnert Park\, CA 94928\,
  USA
URL;VALUE=URI:https://www.millercreeksd.org/mcms/calendar/8650628/can-do-go
 lf-tournament
DTSTART;VALUE=DATE:20260501
DTEND;VALUE=DATE:20260502
END:VEVENT
END:VCALENDAR
