BEGIN:VCALENDAR
VERSION:2.0
PRODID:SchoolNow
CALSCALE:GREGORIAN
BEGIN:VEVENT
UID:3a6df3fa-972b-11f0-b54e-02d3754d99b9
DTSTAMP:20251216T154645Z
SUMMARY:Miller Creek Spring Musical Performance #1
LOCATION:MCMS Gymnasium
URL;VALUE=URI:https://www.millercreeksd.org/mcms/calendar/8650626/miller-cr
 eek-spring-musical-performance-1
DTSTART:20260402T020000Z
DTEND:20260402T033000Z
END:VEVENT
END:VCALENDAR
