BEGIN:VCALENDAR
VERSION:2.0
PRODID:SchoolNow
CALSCALE:GREGORIAN
BEGIN:VEVENT
UID:3a6df314-972b-11f0-aee7-02d3754d99b9
DTSTAMP:20251216T154645Z
SUMMARY:MCMS HSC Community Read Event & Bingo Fundraiser
LOCATION:Ounces Outdoors\, 5800 Northgate Dr\, San Rafael\, CA 94903\, USA
URL;VALUE=URI:https://www.millercreeksd.org/mcms/calendar/8650625/mcms-hsc-
 community-read-event-bingo-fundraiser
DTSTART:20260327T010000Z
DTEND:20260327T023000Z
END:VEVENT
END:VCALENDAR
