BEGIN:VCALENDAR
VERSION:2.0
PRODID:SchoolNow
CALSCALE:GREGORIAN
BEGIN:VEVENT
UID:3a6df21a-972b-11f0-bd17-02d3754d99b9
DTSTAMP:20251216T154645Z
SUMMARY:MCMS HSC Walkathon Fundraiser
URL;VALUE=URI:https://www.millercreeksd.org/mcms/calendar/8650624/mcms-hsc-
 walkathon-fundraiser
DTSTART;VALUE=DATE:20260326
DTEND;VALUE=DATE:20260327
END:VEVENT
END:VCALENDAR
