BEGIN:VCALENDAR
VERSION:2.0
PRODID:SchoolNow
CALSCALE:GREGORIAN
BEGIN:VEVENT
UID:3a6df10c-972b-11f0-b19b-02d3754d99b9
DTSTAMP:20251216T154646Z
SUMMARY:6th Grade Social
LOCATION:MCMS Gymnasium
URL;VALUE=URI:https://www.millercreeksd.org/mcms/calendar/8650623/6th-grade
 -social
DTSTART:20260207T020000Z
DTEND:20260207T033000Z
END:VEVENT
END:VCALENDAR
