BEGIN:VCALENDAR
VERSION:2.0
PRODID:SchoolNow
CALSCALE:GREGORIAN
BEGIN:VEVENT
UID:3a6defea-972b-11f0-8d78-02d3754d99b9
DTSTAMP:20251216T154645Z
SUMMARY:Can Do! Live Auction Gala
URL;VALUE=URI:https://www.millercreeksd.org/mcms/calendar/8650622/can-do-li
 ve-auction-gala
DTSTART;VALUE=DATE:20260131
DTEND;VALUE=DATE:20260201
END:VEVENT
END:VCALENDAR
