BEGIN:VCALENDAR
VERSION:2.0
PRODID:SchoolNow
CALSCALE:GREGORIAN
BEGIN:VEVENT
UID:3a6dee5a-972b-11f0-b7a2-02d3754d99b9
DTSTAMP:20251216T154645Z
SUMMARY:MCMS HSC Bingo Fundraiser - Rain or Shine @ Ounces
LOCATION:Ounces Outdoors\, 5800 Northgate Dr\, San Rafael\, CA 94903\, USA
URL;VALUE=URI:https://www.millercreeksd.org/mcms/calendar/8650621/mcms-hsc-
 bingo-fundraiser-rain-or-shine-ounces
DTSTART:20251025T200000Z
DTEND:20251025T220000Z
END:VEVENT
END:VCALENDAR
