BEGIN:VCALENDAR
VERSION:2.0
PRODID:SchoolNow
CALSCALE:GREGORIAN
BEGIN:VEVENT
UID:3a6dcf1a-972b-11f0-906e-02d3754d99b9
DTSTAMP:20251216T154646Z
SUMMARY:7th Grade Social
URL;VALUE=URI:https://www.millercreeksd.org/mcms/calendar/8650620/7th-grade
 -social
DTSTART:20251011T010000Z
DTEND:20251011T023000Z
END:VEVENT
END:VCALENDAR
